BEGIN:VCALENDAR
VERSION:2.0
PRODID:-//ChamberMaster//Event Calendar 2.0//EN
METHOD:PUBLISH
X-PUBLISHED-TTL:P3D
REFRESH-INTERVAL:P3D
CALSCALE:GREGORIAN
BEGIN:VEVENT
DTSTART:20240619T170000Z
DTEND:20240619T180000Z
X-MICROSOFT-CDO-ALLDAYEVENT:FALSE
SUMMARY:Reviews and Responding by Mike Delacruz
DESCRIPTION:Reviews and Responding\n\nPresented by Mike Delacruz\n\nsponsored by Overdryve\n\n\n\nWord of mouth has been around for centuries\, and it's not going to go anywhere! We will always trust what our friends and family members tell us when it comes to recommending a place of business. But as the internet evolves\, a large percentage of Word of mouth has shifted online\, we call it Word of Mouth 2.0. Your story online is the key differentiator for customers to choose your shop over your competitors. This class will give you important takeaways in managing your online reputation and getting potential customers to call.\n\n\n\nClick here to register.
X-ALT-DESC;FMTTYPE=text/html:<p><span style="font-size:14px\;"><span style="font-family:tahoma\;"><font color="#131619"><span style="font-size:16px\;"><b>Reviews and Responding</b></span><br />\nPresented by Mike Delacruz</font></span></span><br />\n<span style="font-size:14px\;"><span style="font-family:tahoma\;"><font color="#131619">sponsored by <a href="http://www.overdryve.com" target="_blank">Overdryve</a></font><br />\n<br />\n<span style="letter-spacing:0.25pt\;background-image:initial\;background-position:initial\;background-size:initial\;background-repeat:initial\;background-attachment:initial\;background-origin:initial\;background-clip:initial\;"><span style="color:#222222\;">Word of mouth has been around for centuries\, and it&rsquo\;s not going to go anywhere! We will always trust what our friends and family members tell us when it comes to recommending a place of business. But as the internet evolves\, a large percentage of Word of mouth has shifted online\, we call it Word of Mouth 2.0. Your story online is the key differentiator for customers to choose your shop over your competitors. This class will give you important takeaways in managing your online reputation and getting potential customers to call.</span></span></span></span><br />\n<br />\n<span style="font-size:14px\;"><span style="font-family:tahoma\;"><a href="https://us02web.zoom.us/meeting/register/tZckcuyhqT4uH9KuI6KvFFffymLwgLxJvRAL">Click here to register</a>.</span></span></p>\n
LOCATION:Webinar
UID:e.9124.1658
SEQUENCE:3
DTSTAMP:20260419T145301Z
URL:https://members.mwaca.org/events/details/reviews-and-responding-by-mike-delacruz-1658
END:VEVENT

END:VCALENDAR
