BEGIN:VCALENDAR
VERSION:2.0
PRODID:-//ChamberMaster//Event Calendar 2.0//EN
METHOD:PUBLISH
X-PUBLISHED-TTL:P3D
REFRESH-INTERVAL:P3D
CALSCALE:GREGORIAN
BEGIN:VEVENT
DTSTART:20240717T170000Z
DTEND:20240717T180000Z
X-MICROSOFT-CDO-ALLDAYEVENT:FALSE
SUMMARY:How Intent-based Google Search is Changing Repair Shops Online Presence by AutoTechIQ
DESCRIPTION:How Intent-based Google Search is Changing Repair Shops Online Presence\n\nPresented by Uwe Kleinschmidt and Krista Erickson\n\nsponsored by AutoTechIQ\n\n\n\n\n\nDid you know that motorists perform a staggering 89 million Google searches annually to find answers to their car-related questions? This session is your ultimate guide to tapping into this vast pool of potential customers.\n\n \n\nJoin us and discover the cutting-edge options and strategic actions you can take to become the go-to source for these information-seeking motorists. Learn how to craft compelling\, cost-effective marketing strategies tailored specifically for local auto repair shops.\n\n \n\nBy the end of this course\, you'll have the tools and knowledge to:\n\n	Attract and engage motorists through optimized online content.\n	Position your repair shop as a trusted authority in automotive solutions.\n	Maximize your marketing budget to achieve the best ROI.\n\nDon't miss this opportunity to revolutionize your marketing approach and drive more customers to your auto repair shop. Sign up now and start capturing your share of those 89 million searches!\n\n \n\nClick here to register.
X-ALT-DESC;FMTTYPE=text/html:<strong><span style="font-size:16px\;"><span style="font-family:tahoma\;">How Intent-based Google Search is Changing Repair Shops Online</span></span></strong> <span style="font-size:16px\;"><span style="font-family:tahoma\;"><strong>Presence</strong></span></span><br />\n<span style="font-size: 14px\;"><span style="font-family: tahoma\;"><font color="#131619">Presented by Uwe Kleinschmidt and Krista Erickson</font></span></span><br />\n<span style="font-size:14px\;"><span style="font-family: tahoma\;"><font color="#131619">sponsored by&nbsp\;<a href="https://www.autotechiq.com/">AutoTechIQ</a></font></span><br />\n<br />\n<br />\nDid you know that motorists perform a staggering 89 million Google searches annually to find answers to their car-related questions? This session is your ultimate guide to tapping into this vast pool of potential customers.<br />\n&nbsp\;<br />\nJoin us and discover the cutting-edge options and strategic actions you can take to become the go-to source for these information-seeking motorists. Learn how to craft compelling\, cost-effective marketing strategies tailored specifically for local auto repair shops.<br />\n&nbsp\;<br />\nBy the end of this course\, you&#39\;ll have the tools and knowledge to:</span>\n<ul>\n	<li style="font-size:11pt\;font-family:Aptos\, sans-serif\;"><span style="font-size:14px\;">Attract and engage motorists through optimized online content.</span></li>\n	<li style="font-size:11pt\;font-family:Aptos\, sans-serif\;"><span style="font-size:14px\;">Position your repair shop as a trusted authority in automotive solutions.</span></li>\n	<li style="font-size:11pt\;font-family:Aptos\, sans-serif\;"><span style="font-size:14px\;">Maximize your marketing budget to achieve the best ROI.</span></li>\n</ul>\n<span style="font-size:14px\;">Don&#39\;t miss this opportunity to revolutionize your marketing approach and drive more customers to your auto repair shop. Sign up now and start capturing your share of those 89 million searches!<br />\n&nbsp\;</span><br />\n<a href="https://link.autocarealliance.org/ChangingOnlinePresence">Click here to register<span style="font-family: tahoma\; font-size: 14px\;">.</span></a>
LOCATION:Webinar
UID:e.9124.1666
SEQUENCE:3
DTSTAMP:20260419T180632Z
URL:https://members.mwaca.org/events/details/how-intent-based-google-search-is-changing-repair-shops-online-presence-by-autotechiq-1666
END:VEVENT

END:VCALENDAR
