BEGIN:VCALENDAR
VERSION:2.0
PRODID:-//ChamberMaster//Event Calendar 2.0//EN
METHOD:PUBLISH
X-PUBLISHED-TTL:P3D
REFRESH-INTERVAL:P3D
CALSCALE:GREGORIAN
BEGIN:VEVENT
DTSTART:20240803T140000Z
DTEND:20240803T163000Z
X-MICROSOFT-CDO-ALLDAYEVENT:FALSE
SUMMARY:Des Moines SOS Group Meeting - August Meeting
DESCRIPTION:S.O.S. Group / Des Moines\n\nSaturday\, August 3\, 2024\n\n9:00 am - 11:30 am \n\n\n\nYour prompt RSVP is requested so that the host shop can make preparations for enough food for your S.O.S. Group.\n\n\n\nTopic: Marketing
X-ALT-DESC;FMTTYPE=text/html:<span style="font-size:14px\;"><span style="font-family:tahoma\;"><strong style="font-family: verdana\;">S.O.S. Group / Des Moines</strong><br />\n<strong style="font-family: verdana\;">Saturday\, August 3\,</strong><strong>&nbsp\;2024</strong><br />\n<strong><strong>9:00 am - 11:30 am </strong></strong><br />\n<br />\nYour prompt RSVP is requested so that the host shop can make preparations for enough food for your S.O.S. Group.</span></span><br />\n<br />\nTopic: Marketing<br />\n&nbsp\;
LOCATION:Honest Wrenches 2401 Westown Pkwy West Des Moines\, IA 50266
UID:e.9124.1606
SEQUENCE:3
DTSTAMP:20260421T113822Z
URL:https://members.mwaca.org/events/details/des-moines-sos-group-meeting-august-meeting-08-03-2024-1606
END:VEVENT

END:VCALENDAR
