BEGIN:VCALENDAR
VERSION:2.0
PRODID:-//ChamberMaster//Event Calendar 2.0//EN
METHOD:PUBLISH
X-PUBLISHED-TTL:P3D
REFRESH-INTERVAL:P3D
CALSCALE:GREGORIAN
BEGIN:VEVENT
DTSTART:20240411T230000Z
DTEND:20240412T020000Z
X-MICROSOFT-CDO-ALLDAYEVENT:FALSE
SUMMARY:CANCELED: Kansas City Chapter Meeting - Modern AC Diagnosis and Repair
DESCRIPTION:CANCELED: Modern AC Diagnosis and Repair\n\npresented by Wayne Bishop\n\nsponsored by Standard Motor Products\n\n \nAutomotive HVAC systems continue to become more efficient and complex to meet stringent CAFE standards for fuel economy. As refrigerant charges get smaller the room for error becomes near zero. Passenger comfort is paramount and a costly job if not done correctly or has to be done again. Our HVAC class will help promote accurate diagnosis the first time with best practices and common failures. \n\nThis class will help the technician know how different systems operate and use refrigeration principles to diagnose systems accurately the first time. HVAC systems now rely on complex electrical systems to operate. This class will cover R134a as well as R1234yf and their related system components. After completing this class\, a technician will be able to: \n\n Identify and diagnose electrical components and their impact on HVAC operation \n\n Understand safe refrigerant handling and proper procedures \n\n Accurately diagnose and service both R-1234yf and R134a systems \n\n Properly replace HVAC components and related electronics \n\n Perform correct HVAC service per government regulations
X-ALT-DESC;FMTTYPE=text/html:<span style="font-size:14px\;"><span style="font-family:tahoma\;"><span style="color:#FF0000\;"><span style="font-size:16px\;"><b>CANCELED: Modern AC Diagnosis and Repair</b></span></span><br />\npresented by Wayne Bishop<br />\nsponsored by Standard Motor Products</span></span><br />\n&nbsp\;\n<p class="cvGsUA direction-ltr align-start para-style-body" style="color: rgb(0\, 0\, 0)\; font-family: &quot\;YACgEX8C5Gg 0&quot\;\, _fb_\, auto\; --font-size: 16px\; --line-height: 1.57\; line-height: 25px\;"><span style="font-size:14px\;"><span style="font-family:tahoma\;"><span class="OYPEnA text-decoration-none text-strikethrough-none">Automotive HVAC systems continue to become more efficient and complex to meet stringent CAFE standards for fuel economy. As refrigerant charges get smaller the room for error becomes near zero. Passenger comfort is paramount and a costly job if not done correctly or has to be done again. Our HVAC class will help promote accurate diagnosis the first time with best practices and common failures.</span><span class="OYPEnA text-decoration-none text-strikethrough-none white-space-prewrap"> </span></span></span></p>\n\n<p class="cvGsUA direction-ltr align-start para-style-body" style="color: rgb(0\, 0\, 0)\; font-family: &quot\;YACgEX8C5Gg 0&quot\;\, _fb_\, auto\; --font-size: 16px\; --line-height: 1.57\; line-height: 25px\;"><span style="font-size:14px\;"><span style="font-family:tahoma\;"><span class="OYPEnA text-decoration-none text-strikethrough-none">This class will help the technician know how different systems operate and use refrigeration principles to diagnose systems accurately the first time. HVAC systems now rely on complex electrical systems to operate. This class will cover R134a as well as R1234yf and their related system components. After completing this class\, a technician will be able to:</span><span class="OYPEnA text-decoration-none text-strikethrough-none white-space-prewrap"> </span></span></span></p>\n\n<p class="cvGsUA direction-ltr align-start para-style-body" style="color: rgb(0\, 0\, 0)\; font-family: &quot\;YACgEX8C5Gg 0&quot\;\, _fb_\, auto\; --font-size: 16px\; --line-height: 1.57\; line-height: 25px\;"><span style="font-size:14px\;"><span style="font-family:tahoma\;"><span class="OYPEnA text-decoration-none text-strikethrough-none">&#8729\;Identify and diagnose electrical components and their impact on HVAC operation</span><span class="OYPEnA text-decoration-none text-strikethrough-none white-space-prewrap"> </span></span></span></p>\n\n<p class="cvGsUA direction-ltr align-start para-style-body" style="color: rgb(0\, 0\, 0)\; font-family: &quot\;YACgEX8C5Gg 0&quot\;\, _fb_\, auto\; --font-size: 16px\; --line-height: 1.57\; line-height: 25px\;"><span style="font-size:14px\;"><span style="font-family:tahoma\;"><span class="OYPEnA text-decoration-none text-strikethrough-none">&#8729\;Understand safe refrigerant handling and proper procedures</span><span class="OYPEnA text-decoration-none text-strikethrough-none white-space-prewrap"> </span></span></span></p>\n\n<p class="cvGsUA direction-ltr align-start para-style-body" style="color: rgb(0\, 0\, 0)\; font-family: &quot\;YACgEX8C5Gg 0&quot\;\, _fb_\, auto\; --font-size: 16px\; --line-height: 1.57\; line-height: 25px\;"><span style="font-size:14px\;"><span style="font-family:tahoma\;"><span class="OYPEnA text-decoration-none text-strikethrough-none">&#8729\;Accurately diagnose and service both R-1234yf and R134a systems</span><span class="OYPEnA text-decoration-none text-strikethrough-none white-space-prewrap"> </span></span></span></p>\n\n<p class="cvGsUA direction-ltr align-start para-style-body" style="color: rgb(0\, 0\, 0)\; font-family: &quot\;YACgEX8C5Gg 0&quot\;\, _fb_\, auto\; --font-size: 16px\; --line-height: 1.57\; line-height: 25px\;"><span style="font-size:14px\;"><span style="font-family:tahoma\;"><span class="OYPEnA text-decoration-none text-strikethrough-none">&#8729\;Properly replace HVAC components and related electronics</span><span class="OYPEnA text-decoration-none text-strikethrough-none white-space-prewrap"> </span></span></span></p>\n\n<p class="cvGsUA direction-ltr align-start para-style-body" style="color: rgb(0\, 0\, 0)\; font-family: &quot\;YACgEX8C5Gg 0&quot\;\, _fb_\, auto\; --font-size: 16px\; --line-height: 1.57\; line-height: 25px\;"><span style="font-size:14px\;"><span style="font-family:tahoma\;"><span class="OYPEnA text-decoration-none text-strikethrough-none">&#8729\;Perform correct HVAC service per government regulations</span></span></span></p>\n
LOCATION:Meeting canceled.
UID:e.9124.1586
SEQUENCE:3
DTSTAMP:20260419T175940Z
URL:https://members.mwaca.org/events/details/canceled-kansas-city-chapter-meeting-modern-ac-diagnosis-and-repair-1586
END:VEVENT

END:VCALENDAR
